BEGIN:VCALENDAR
VERSION:2.0
PRODID:-//chorismatisch.de - ECPv6.15.20//NONSGML v1.0//EN
CALSCALE:GREGORIAN
METHOD:PUBLISH
X-ORIGINAL-URL:https://www.chorismatisch.de
X-WR-CALDESC:Veranstaltungen für chorismatisch.de
REFRESH-INTERVAL;VALUE=DURATION:PT1H
X-Robots-Tag:noindex
X-PUBLISHED-TTL:PT1H
BEGIN:VTIMEZONE
TZID:Europe/Berlin
BEGIN:DAYLIGHT
TZOFFSETFROM:+0100
TZOFFSETTO:+0200
TZNAME:CEST
DTSTART:20260329T010000
END:DAYLIGHT
BEGIN:STANDARD
TZOFFSETFROM:+0200
TZOFFSETTO:+0100
TZNAME:CET
DTSTART:20261025T010000
END:STANDARD
BEGIN:DAYLIGHT
TZOFFSETFROM:+0100
TZOFFSETTO:+0200
TZNAME:CEST
DTSTART:20270328T010000
END:DAYLIGHT
BEGIN:STANDARD
TZOFFSETFROM:+0200
TZOFFSETTO:+0100
TZNAME:CET
DTSTART:20271031T010000
END:STANDARD
BEGIN:DAYLIGHT
TZOFFSETFROM:+0100
TZOFFSETTO:+0200
TZNAME:CEST
DTSTART:20280326T010000
END:DAYLIGHT
BEGIN:STANDARD
TZOFFSETFROM:+0200
TZOFFSETTO:+0100
TZNAME:CET
DTSTART:20281029T010000
END:STANDARD
END:VTIMEZONE
BEGIN:VEVENT
DTSTART;TZID=Europe/Berlin:20271203T000000
DTEND;TZID=Europe/Berlin:20271204T000000
DTSTAMP:20260420T055446
CREATED:20251230T002005Z
LAST-MODIFIED:20251230T002231Z
UID:5938-1827792000-1827878400@www.chorismatisch.de
SUMMARY:Auftritt bei den Weihnachtskonzerten des Lessinggymnasiums Hoh.-E.
DESCRIPTION:– am Freitag\, den 03.12.2027\, 19.00 Uhr und\n– am Samstag\, den 04.12.2027\, 17.00 Uhr\nin der Christophori-Kirche in Hohenstein-Ernstthal
URL:https://www.chorismatisch.de/termine/auftritt-bei-den-weihnachtskonzerten-des-lessinggymnasiums-hoh-e/
END:VEVENT
END:VCALENDAR