BEGIN:VCALENDAR
VERSION:2.0
PRODID:-//chorismatisch.de - ECPv6.15.20//NONSGML v1.0//EN
CALSCALE:GREGORIAN
METHOD:PUBLISH
X-ORIGINAL-URL:https://www.chorismatisch.de
X-WR-CALDESC:Veranstaltungen für chorismatisch.de
REFRESH-INTERVAL;VALUE=DURATION:PT1H
X-Robots-Tag:noindex
X-PUBLISHED-TTL:PT1H
BEGIN:VTIMEZONE
TZID:Europe/Berlin
BEGIN:DAYLIGHT
TZOFFSETFROM:+0100
TZOFFSETTO:+0200
TZNAME:CEST
DTSTART:20250330T010000
END:DAYLIGHT
BEGIN:STANDARD
TZOFFSETFROM:+0200
TZOFFSETTO:+0100
TZNAME:CET
DTSTART:20251026T010000
END:STANDARD
BEGIN:DAYLIGHT
TZOFFSETFROM:+0100
TZOFFSETTO:+0200
TZNAME:CEST
DTSTART:20260329T010000
END:DAYLIGHT
BEGIN:STANDARD
TZOFFSETFROM:+0200
TZOFFSETTO:+0100
TZNAME:CET
DTSTART:20261025T010000
END:STANDARD
BEGIN:DAYLIGHT
TZOFFSETFROM:+0100
TZOFFSETTO:+0200
TZNAME:CEST
DTSTART:20270328T010000
END:DAYLIGHT
BEGIN:STANDARD
TZOFFSETFROM:+0200
TZOFFSETTO:+0100
TZNAME:CET
DTSTART:20271031T010000
END:STANDARD
END:VTIMEZONE
BEGIN:VEVENT
DTSTART;VALUE=DATE:20261128
DTEND;VALUE=DATE:20261129
DTSTAMP:20260419T222505
CREATED:20251229T153442Z
LAST-MODIFIED:20251230T001056Z
UID:5926-1795824000-1795910399@www.chorismatisch.de
SUMMARY:Mitwirkung beim Weihnachtsmusical "Wundersame Weihnachtszeit"
DESCRIPTION:am Samstag\, den 28.11.2026\, 15.00 Uhr und 18.00 Uhr im Stadttheater Glauchau
URL:https://www.chorismatisch.de/termine/mitwirkung-beim-weihnachtsmusical-wundersame-weihnachtszeit/
END:VEVENT
END:VCALENDAR