BEGIN:VCALENDAR
VERSION:2.0
PRODID:-//chorismatisch.de - ECPv6.15.20//NONSGML v1.0//EN
CALSCALE:GREGORIAN
METHOD:PUBLISH
X-ORIGINAL-URL:https://www.chorismatisch.de
X-WR-CALDESC:Veranstaltungen für chorismatisch.de
REFRESH-INTERVAL;VALUE=DURATION:PT1H
X-Robots-Tag:noindex
X-PUBLISHED-TTL:PT1H
BEGIN:VTIMEZONE
TZID:Europe/Berlin
BEGIN:DAYLIGHT
TZOFFSETFROM:+0100
TZOFFSETTO:+0200
TZNAME:CEST
DTSTART:20240331T010000
END:DAYLIGHT
BEGIN:STANDARD
TZOFFSETFROM:+0200
TZOFFSETTO:+0100
TZNAME:CET
DTSTART:20241027T010000
END:STANDARD
BEGIN:DAYLIGHT
TZOFFSETFROM:+0100
TZOFFSETTO:+0200
TZNAME:CEST
DTSTART:20250330T010000
END:DAYLIGHT
BEGIN:STANDARD
TZOFFSETFROM:+0200
TZOFFSETTO:+0100
TZNAME:CET
DTSTART:20251026T010000
END:STANDARD
BEGIN:DAYLIGHT
TZOFFSETFROM:+0100
TZOFFSETTO:+0200
TZNAME:CEST
DTSTART:20260329T010000
END:DAYLIGHT
BEGIN:STANDARD
TZOFFSETFROM:+0200
TZOFFSETTO:+0100
TZNAME:CET
DTSTART:20261025T010000
END:STANDARD
END:VTIMEZONE
BEGIN:VEVENT
DTSTART;TZID=Europe/Berlin:20250630T080000
DTEND;TZID=Europe/Berlin:20250630T170000
DTSTAMP:20260419T190122
CREATED:20250630T131502Z
LAST-MODIFIED:20250630T131502Z
UID:5763-1751270400-1751302800@www.chorismatisch.de
SUMMARY:Jubiläumskonzert am Sonntag\, den 30.11.2025\, 15.00 Uhr in der Sachsenlandhalle Glauchau
DESCRIPTION:
URL:https://www.chorismatisch.de/termine/jubilaeumskonzert-am-sonntag-den-30-11-2025-15-00-uhr-in-der-sachsenlandhalle-glauchau/
END:VEVENT
END:VCALENDAR